BEGIN:VCALENDAR
METHOD:PUBLISH
VERSION:2.0
CALSCALE:GREGORIAN
PRODID:-//NONSGML WPForms//NONSGML Sugar Calendar Feeds v3.11.0//EN
X-WR-CALNAME:Co pomaga nam w żałobie? Spotkanie psychoedukacyjne po uk
 raińsku
X-WR-CALDESC:Dom Ukojenia | Grief House Warsaw | Дім Полегшен
 ня
X-WR-TIMEZONE:UTC
BEGIN:VTIMEZONE
TZID:UTC
BEGIN:STANDARD
TZOFFSETFROM:+0000
TZOFFSETTO:+0000
DTSTART:20251022T060000
TZNAME:UTC
END:STANDARD
END:VTIMEZONE
BEGIN:VTIMEZONE
TZID:UTC
BEGIN:STANDARD
TZOFFSETFROM:+0000
TZOFFSETTO:+0000
DTSTART:20251022T060000
TZNAME:UTC
END:STANDARD
END:VTIMEZONE
BEGIN:VEVENT
SUMMARY:Co pomaga nam w żałobie? Spotkanie psychoedukacyjne po ukraiń
 sku
DESCRIPTION:Spotkanie psychoedukacyjne na temat żałoby\nFundacja Ukrai
 ński Dom oraz Dom Ukojenia zapraszają na spotkanie psychoedukacyjne dl
 a kobiet poświęcone tematowi straty i żałoby.\nSpotkanie będzie si
  składać z części psychoedukacyjnej oraz warsztatowej. Będzie to s
 pokojna i wspierająca rozmowa o tym\, czym jest żałoba\, jak może ob
 jawiać się w emocjach\, ciele\, relacjach i codziennym życiu\, a tak
 e dlaczego po stracie często czujemy się inaczej\, niż się spodziew
 ałyśmy.\nPorozmawiamy o tym\, co w procesie żałoby jest naturalne\, 
 co może pomagać\, a co zwykle nie przynosi ulgi. Zwrócimy też uwagę
  na to\, jak doświadczenie straty może łączyć się z migracją\, zm
 ianą kraju\, samotnością\, przeciążeniem i życiem pomiędzy dwoma 
 światami. To spotkanie nie wymaga szczegółowego opowiadania swojej h
 istorii. Będzie odpowiednie dla kobiet\, które chcą lepiej zrozumieć
  siebie\, swoje reakcje i znaleźć trochę więcej ukojenia oraz oparci
 a.\nSpotkanie odbędzie się w j. ukraińskim. Zapisy na wydarzenie prow
 adzi Klub Ukraińskich Kobiet.\nWstęp jest bezpłatny. Spotkanie organi
 zowane jest w ramach Inkubatora Pomysłów finansowanego ze środków pr
 ogramu Fundusze Europejskie dla Rozwoju Społecznego.\nWażne: to nie je
 st terapia ani interwencja kryzysowa. To spotkanie psychoedukacyjne\, kt
 óre może pomóc lepiej zrozumieć proces żałoby i własne potrzeby.\
 n\nSpotkanie poprowadzą:\nIzabela Jachnicka oraz Mariia Zavialova\n\nCz
 asem ulgę przynosi już samo zrozumienie\, co się z nami dzieje ♥\n\
 n&nbsp\;
URL;VALUE=URI:https://griefhouse.community/en/events/co-pomaga-w-zalobie
 -psychoedukacja-ukrainski/
UID:urn:uuid:a3237bf5-8c3b-4f8a-b3a7-386117b3c4c5
STATUS:CONFIRMED
ORGANIZER:
DTSTAMP:20260422T173636Z
DTSTART;TZID=UTC:20260422T180000
DTEND;TZID=UTC:20260422T200000
LOCATION:Zamenhofa 1
END:VEVENT
END:VCALENDAR