BEGIN:VCALENDAR
METHOD:PUBLISH
VERSION:2.0
CALSCALE:GREGORIAN
PRODID:-//NONSGML WPForms//NONSGML Sugar Calendar Feeds v3.11.0//EN
X-WR-CALNAME:☕💀 Death Cafe na Bemowie (spotkanie bezpłatne)
X-WR-CALDESC:Dom Ukojenia | Grief House Warsaw | Дім Полегшен
 ня
X-WR-TIMEZONE:UTC
BEGIN:VTIMEZONE
TZID:UTC
BEGIN:STANDARD
TZOFFSETFROM:+0000
TZOFFSETTO:+0000
DTSTART:20250716T060000
TZNAME:UTC
END:STANDARD
END:VTIMEZONE
BEGIN:VTIMEZONE
TZID:UTC
BEGIN:STANDARD
TZOFFSETFROM:+0000
TZOFFSETTO:+0000
DTSTART:20250716T060000
TZNAME:UTC
END:STANDARD
END:VTIMEZONE
BEGIN:VEVENT
SUMMARY:☕💀 Death Cafe na Bemowie (spotkanie bezpłatne)
DESCRIPTION:☕💀 Death Cafe na Bemowie (Warszawa) – rozmowy o śmie
 rci przy kawie i ciastkach\nCzy kiedykolwiek chciałeś/aś porozmawiać
  o śmierci\, ale czułeś/aś\, że „nie wypada” poruszać tego tem
 atu w towarzystwie? A może myślisz o przemijaniu i nie masz z kim podz
 ielić się swoimi refleksjami?\n\n🍰 Czym jest Death Cafe? \nTo nie j
 est wykład ani warsztat. Spotkanie nie pełni również funkcji terapii
 . Death Cafe to spotkanie bez z góry ustalonej agendy\, które za każd
 ym razem toczy się inaczej. To otwarta\, luźna rozmowa o śmierci przy
 ... pysznym cieście i niealkoholowych napojach.\nRuch Death Cafe narodz
 ił się w Wielkiej Brytanii w 2011 roku dzięki Jonowi Underwoodowi. Od
  tego czasu tysiące ludzi na całym świecie spotykają się w kawiarni
 ach\, domach i bibliotekach\, aby przełamać tabu i oswoić to\, co nie
 uchronne.\nWierzymy\, że otwarte mówienie o śmierci pomaga nam pełni
 ej i świadomiej przeżywać nasze życie. 🌿\n\n👥Dla kogo jest to 
 spotkanie?\nDla każdego (dorosłego) śmiertelnika – bez względu na 
 światopogląd\, doświadczenia czy poziom „oswojenia” tematu. Przyj
 dź\, jeśli chcesz posłuchać\, podzielić się swoją historią\, zad
 ać pytania\, które chodzą Ci po głowie\, lub po prostu pobyć w prze
 strzeni\, gdzie śmierć nie jest tematem zakazanym.\nMożesz mówić du
 żo\, a możesz też tylko słuchać i pić kawę. Decyzja należy do Ci
 ebie.\n\nWażne: to nie jest terapia\nSpotkanie ma charakter społeczny 
 i towarzyski. To nie psychoedukacja ani terapia. Na spotkaniach nie udzi
 elamy też porad typu „co powinnaś/powinieneś zrobić”. Jeśli jes
 teś w silnym kryzysie i potrzebujesz natychmiastowej pomocy\, prosimy 
  sięgnij po wsparcie specjalistyczne.\nSpotkanie poprowadzą:\nMarta 
 Tittenbrun i Agnieszka Wójcińska\n\n&nbsp\;
URL;VALUE=URI:https://griefhouse.community/en/events/death-cafe-na-bemow
 ie/
UID:urn:uuid:6f4cd7bc-494e-409c-b552-f3262f183d33
STATUS:CONFIRMED
ORGANIZER:
DTSTAMP:20260423T042522Z
DTSTART;TZID=UTC:20260114T180000
DTEND;TZID=UTC:20260114T200000
LOCATION:ul. Powstańców Śląskich 80d
END:VEVENT
END:VCALENDAR