BEGIN:VCALENDAR
METHOD:PUBLISH
VERSION:2.0
CALSCALE:GREGORIAN
PRODID:-//NONSGML WPForms//NONSGML Sugar Calendar Feeds v3.11.0//EN
X-WR-CALNAME:Grief Soup (Zupa Ukojenia) - wspólny posiłek dla osób po
  stracie
X-WR-CALDESC:Dom Ukojenia | Grief House Warsaw | Дім Полегшен
 ня
X-WR-TIMEZONE:UTC
BEGIN:VTIMEZONE
TZID:UTC
BEGIN:STANDARD
TZOFFSETFROM:+0000
TZOFFSETTO:+0000
DTSTART:20250830T030000
TZNAME:UTC
END:STANDARD
END:VTIMEZONE
BEGIN:VTIMEZONE
TZID:UTC
BEGIN:STANDARD
TZOFFSETFROM:+0000
TZOFFSETTO:+0000
DTSTART:20250830T030000
TZNAME:UTC
END:STANDARD
END:VTIMEZONE
BEGIN:VEVENT
SUMMARY:Grief Soup (Zupa Ukojenia) - wspólny posiłek dla osób po stra
 cie
DESCRIPTION:Uwaga! Ilość miejsc ograniczona. Aby zarezerwować miejsce
 \, wypełnij formularz zapisowy. \nBezpłatne spotkanie dla osób w ża
 łobie wokół wspólnego stołu\nPo stracie nawet najprostsze rzeczy po
 trafią stać się trudne:  gotowanie\, jedzenie\, posiłek w samotnoś
 ci. Czasem nie chodzi o brak apetytu\, tylko o brak sensu („nie ma ju
  dla kogo”)\, poczucie\, że „nie mam siły” albo „nie chcę by
 ć z tym sama/sam”. Grief Soup to spotkanie\, w którym wracamy do cze
 goś bardzo prostego: przygotowujemy wspólny posiłek i jemy go razem.\
 nCzym jest Grief Soup?\nGrief Soup to spotkanie w małej grupie\, podcza
 s którego wspólnie przygotowujemy prostą zupę/posiłek (krok po krok
 u)\, a potem zasiadamy do stołu. W kuchni i przy stole łatwiej jest 
 po prostu być”. To miejsca\, w których rozmowa pojawia się natural
 nie między krojeniem\, mieszaniem i nalewaniem\, ale nigdy nie jest obo
 wiązkowa. Jesteśmy w tym razem\, z otwartością na łzy (od cebuli i
  nie tylko). Z życzliwą obecnością innych osób\, które też znają
  doświadczenie żałoby.\n\nNie musisz umieć gotować (my też nie jes
 teśmy mistrzyniami w kuchni\, choć mamy nadzieję\, że kiedyś odwied
 zi nas Robert Makłowicz \;) ) — wszystko przygotujemy razem.\n👥 Cz
 y to spotkanie jest dla Ciebie?\nTak\, jeśli:\n✓ jesteś w żałobie 
 po śmierci bliskiej osoby (niezależnie od tego\, ile czasu minęło)\n
 ✓ po stracie trudno Ci gotować lub tęsknisz za wspólnymi posiłkami
 \n✓ chcesz spotkać osoby\, które rozumieją doświadczenie żałoby\
 n✓ potrzebujesz spokojnej\, życzliwej przestrzeni – z możliwości
  bycia w ciszy albo podzielenia się tym\, co nosisz\n✓ chcesz po pro
 stu zrobić coś wspólnie z innymi bez konieczności tłumaczenia się\
 n\nZapisz się przez formularz zgłoszeniowy. Czekamy na Ciebie!\nRejest
 racja zakończona\nWstęp jest bezpłatny. Spotkanie organizowane jest w
  ramach Inkubatora Pomysłów finansowanego ze środków programu Fundus
 ze Europejskie dla Rozwoju Społecznego.\nWażne:\n\n 	Jeśli masz alerg
 ię lub istotną nietolerancję pokarmową - daj nam znać w formularzu 
 zapisowym.\n 	Spotkanie ma charakter wspierający\, nie jest terapią. 
 Na spotkaniach nie udzielamy porad typu „co powinnaś/powinieneś zrob
 ić”. Jeśli jesteś w silnym kryzysie i potrzebujesz natychmiastowej 
 pomocy\, prosimy – sięgnij po wsparcie specjalistyczne.\n\nSpotkanie 
 poprowadzi:\nDorota Drzymulska\n\nPrzynieś siebie — tak jak jesteś. 
 Zrobimy miejsce przy stole także na Twoją żałobę (a od cebuli popł
 aczemy razem) ♥
URL;VALUE=URI:https://griefhouse.community/en/events/grief-soup-zupa-uko
 jenia-wspolny-stol-dla-osob-po-stracie/
UID:urn:uuid:a8c12318-18cf-4e7d-8f37-2dc035435c9a
STATUS:CONFIRMED
ORGANIZER:
DTSTAMP:20260422T225607Z
DTSTART;TZID=UTC:20260228T150000
DTEND;TZID=UTC:20260228T180000
LOCATION:ul. Grójecka 109
END:VEVENT
END:VCALENDAR