BEGIN:VCALENDAR
METHOD:PUBLISH
VERSION:2.0
CALSCALE:GREGORIAN
PRODID:-//NONSGML WPForms//NONSGML Sugar Calendar Feeds v3.11.0//EN
X-WR-CALNAME:Krąg wsparcia dla kobiet w języku ukraińskim
X-WR-CALDESC:Dom Ukojenia | Grief House Warsaw | Дім Полегшен
 ня
X-WR-TIMEZONE:UTC
BEGIN:VTIMEZONE
TZID:UTC
BEGIN:STANDARD
TZOFFSETFROM:+0000
TZOFFSETTO:+0000
DTSTART:20251008T060000
TZNAME:UTC
END:STANDARD
END:VTIMEZONE
BEGIN:VTIMEZONE
TZID:UTC
BEGIN:STANDARD
TZOFFSETFROM:+0000
TZOFFSETTO:+0000
DTSTART:20251008T060000
TZNAME:UTC
END:STANDARD
END:VTIMEZONE
BEGIN:VEVENT
SUMMARY:Krąg wsparcia dla kobiet w języku ukraińskim
DESCRIPTION:Krąg wsparcia dla kobiet „Kruchość i siła w trudnych c
 zasach – przestrzeń dzielonego doświadczenia” w języku ukraiński
 m\nFundacja Ukraiński Dom oraz Dom Ukojenia zapraszają na kameralny kr
 ąg wsparcia dla kobiet\, które doświadczają straty.\nCzy nosisz w so
 bie tęsknotę za domem\, który został gdzieś w przeszłości? Czy tr
 udno Ci czasem wyjaśnić innym poczucie pustki po przeprowadzce albo po
  utracie dawnego miejsca\, roli czy statusu? Czy doświadczasz dziś roz
 łąki\, straty bliskiej osoby albo wrażenia\, że zachwiało się Twoj
 e wewnętrzne oparcie?\nTo będzie łagodna i bezpieczna przestrzeń do 
 rozmowy o smutku\, zmianie i o tym\, co boli po cichu. Szczególną uwag
 ę poświęcimy stracie migracyjnej — pożegnaniu z dotychczasowym ży
 ciem\, dawnym statusem\, bliskim kręgiem relacji\, a czasem także z sa
 mą sobą „sprzed przeprowadzki”. To również jest głęboki i waż
 ny proces przeżywania straty i oswajania zmiany.\nJak będzie przebiega
 ć spotkanie? Podczas kręgu nie trzeba mówić więcej\, niż się chce
 . Można podzielić się swoim doświadczeniem\, ale można też po pros
 tu pobyć razem z innymi i słuchać. Nie prosimy o szczegółowe opowie
 ści i nie zachęcamy do wracania do bolesnych wydarzeń. Najważniejsze
  są dla nas obecność\, szacunek\, uważność i wzajemne wsparcie.\nS
 potkanie odbędzie się w j. ukraińskim. Zapisy na wydarzenie prowadzi 
 Klub Ukraińskich Kobiet.\n\nFORMULARZ ZAPISOWY\nWstęp jest bezpłatny.
  Spotkanie organizowane jest w ramach Inkubatora Pomysłów finansowaneg
 o ze środków programu Fundusze Europejskie dla Rozwoju Społecznego.\n
 Ważne: to nie jest terapia ani interwencja kryzysowa. To przestrzeń ws
 parcia społecznego dla kobiet\, które chcą pobyć z tematem straty w 
 bezpiecznym kręgu.\n\nSpotkanie poprowadzą:\nIzabela Jachnicka oraz Ma
 riia Zavialova\n\nKrąg pomaga każdej kobiecie usłyszeć jej własną 
 historię\, którą nosi w sobie ♥\n\n&nbsp\;
URL;VALUE=URI:https://griefhouse.community/events/krag-wsparcia-dla-kobi
 et-w-j-ukrainskim/
UID:urn:uuid:a3237bf5-8c3b-4f8a-b3a7-386117b3c4c5
STATUS:CONFIRMED
ORGANIZER:
DTSTAMP:20260422T191439Z
DTSTART;TZID=UTC:20260408T180000
DTEND;TZID=UTC:20260408T200000
LOCATION:Zamenhofa 1
END:VEVENT
END:VCALENDAR