BEGIN:VCALENDAR
METHOD:PUBLISH
VERSION:2.0
CALSCALE:GREGORIAN
PRODID:-//NONSGML WPForms//NONSGML Sugar Calendar Feeds v3.11.0//EN
X-WR-CALNAME:Krąg żałoby migracyjnej
X-WR-CALDESC:Dom Ukojenia | Grief House Warsaw | Дім Полегшен
 ня
X-WR-TIMEZONE:UTC
BEGIN:VTIMEZONE
TZID:UTC
BEGIN:STANDARD
TZOFFSETFROM:+0000
TZOFFSETTO:+0000
DTSTART:20251105T060000
TZNAME:UTC
END:STANDARD
END:VTIMEZONE
BEGIN:VTIMEZONE
TZID:UTC
BEGIN:STANDARD
TZOFFSETFROM:+0000
TZOFFSETTO:+0000
DTSTART:20251105T060000
TZNAME:UTC
END:STANDARD
END:VTIMEZONE
BEGIN:VEVENT
SUMMARY:Krąg żałoby migracyjnej
DESCRIPTION:Bezpłatne spotkanie dla osób żyjących z dala od ojczyzny
 \nŻałoba migracyjna jest czymś\, o czym nikt nie mówi\, ale wiele os
 ób jej doświadcza. Nikt nie organizuje pogrzebu z powodu utraconej prz
 ynależności. Nie ma ceremonii na cześć języka\, którego przestało
  się używać codziennie. Ale ta żałoba jest prawdziwa i rzeczywista.
 \nCzym jest krąg żałoby migracyjnej?\nKrąg żałoby migracyjnej to s
 potkanie w małej grupie dla osób\, które żyją z dala od ojczyzny i 
 noszą w sobie stratę związaną z migracją – utratę języka\, codz
 iennych rytuałów\, bliskich\, znajomego krajobrazu i poczucia przynale
 żności. To bezpieczna przestrzeń dla każdego\, kto czuje się zawies
 zony „pomiędzy” kulturami i mierzy się ze stratą. Można po prost
 u przyjść\, pobyć w ciszy lub podzielić się swoją historią w gron
 ie osób\, które rozumieją specyfikę życia z dala od domu.\n\nSpotka
 nie jest otwarte dla imigrantów\, uchodźców\, ekspatów oraz wszystki
 ch osób\, dla których temat straty w kontekście migracji jest bliski.
  Rozmawiamy w języku polskim i angielskim\, szanując każdą perspekty
 wę.\n\nSpotkania odbywają się w języku angielskim. Nie musisz znać 
 języka „perfekcyjnie”. Wystarczy\, że jesteś w stanie słuchać i
 nnych i powiedzieć to\, co sama/sam przeżywasz lub czujesz.\n Czy to 
 spotkanie jest dla Ciebie?\nTak\, jeśli:\n✓ Opuściłaś/eś dom\, ab
 y zbudować życie gdzie indziej\n✓ Tęsknisz za rodziną\, którą ni
 e możesz odwiedzić regularnie\n✓ Czujesz się „pomiędzy” dwoma 
 światami\n✓ Pytania "Skąd naprawdę jesteś?" sprawiają\, że czuje
 sz się dziwnie\n✓ Tęsknisz za tradycjami\, których nie możesz prak
 tykować\n✓ Tęsknisz za językiem\, którego rzadko używasz\n✓ Tę
 sknisz za tradycyjną kuchnią\, krajobrazem\, światłem\n✓ Czujesz s
 ię samotnie w tej żałobie\n\nZapisz się przez formularz zgłoszeniow
 y. Czekamy na Ciebie!\n\nJeśli to Twój pierwszy raz\, wypełnij formul
 arz "pierwsze spotkanie"\nJeśli już uczestniczyłaś/eś w spotkaniu K
 ręgu Żałoby Migracyjnej\, wybierz formularz "kolejne spotkanie"\nPier
 wsze spotkanie\nKolejne spotkanie\nWstęp jest bezpłatny. Spotkanie org
 anizowane w ramach Inkubatora Pomysłów finansowanego ze środków prog
 ramu Fundusze Europejskie dla Rozwoju Społecznego.\nWażne: to nie jest
  terapia\nSpotkanie ma charakter społeczny i towarzyski. To nie psychoe
 dukacja ani terapia. Na spotkaniach nie udzielamy też porad typu „co 
 powinnaś/powinieneś zrobić”. Jeśli jesteś w silnym kryzysie i pot
 rzebujesz natychmiastowej pomocy\, prosimy – sięgnij po wsparcie spec
 jalistyczne.\n\nSpotkanie poprowadzi:\nErica Kim i Izabela Jachnicka\n\n
 Przynieś swoją stratę. Przynieś swoje pytania. Będziemy Cię słuch
 ać ♥
URL;VALUE=URI:https://griefhouse.community/events/krag-zaloby-migracyjne
 j-3/
UID:urn:uuid:df179099-eec7-4770-904f-88bcd1dfec3c
STATUS:CONFIRMED
ORGANIZER:
DTSTAMP:20260422T174152Z
DTSTART;TZID=UTC:20260506T180000
DTEND;TZID=UTC:20260506T194500
LOCATION:ul. Jagiellońska 54
END:VEVENT
END:VCALENDAR