BEGIN:VCALENDAR
METHOD:PUBLISH
VERSION:2.0
CALSCALE:GREGORIAN
PRODID:-//NONSGML WPForms//NONSGML Sugar Calendar Feeds v3.11.0//EN
X-WR-CALNAME:Krąg żałoby migracyjnej
X-WR-CALDESC:Dom Ukojenia | Grief House Warsaw | Дім Полегшен
 ня
X-WR-TIMEZONE:UTC
BEGIN:VTIMEZONE
TZID:UTC
BEGIN:STANDARD
TZOFFSETFROM:+0000
TZOFFSETTO:+0000
DTSTART:20250814T060000
TZNAME:UTC
END:STANDARD
END:VTIMEZONE
BEGIN:VTIMEZONE
TZID:UTC
BEGIN:STANDARD
TZOFFSETFROM:+0000
TZOFFSETTO:+0000
DTSTART:20250814T060000
TZNAME:UTC
END:STANDARD
END:VTIMEZONE
BEGIN:VEVENT
SUMMARY:Krąg żałoby migracyjnej
DESCRIPTION:Bezpłatne spotkanie dla osób żyjących z dala od ojczyzny
 \nŻałoba migracyjna jest czymś\, o czym nikt nie mówi\, ale wiele os
 ób jej doświadcza. Nikt nie organizuje pogrzebu z powodu utraconej prz
 ynależności. Nie ma ceremonii na cześć języka\, którego przestało
  się używać codziennie. Ale ta żałoba jest prawdziwa i rzeczywista.
 \nCzym jest krąg żałoby migracyjnej?\nKrąg żałoby migracyjnej to s
 potkanie w małej grupie dla osób\, które żyją z dala od ojczyzny i 
 noszą w sobie stratę związaną z migracją – utratę języka\, codz
 iennych rytuałów\, bliskich\, znajomego krajobrazu i poczucia przynale
 żności. To bezpieczna przestrzeń dla każdego\, kto czuje się zawies
 zony „pomiędzy” kulturami i mierzy się ze stratą. Można po prost
 u przyjść\, pobyć w ciszy lub podzielić się swoją historią w gron
 ie osób\, które rozumieją specyfikę życia z dala od domu.\n\nSpotka
 nie jest otwarte dla imigrantów\, uchodźców\, ekspatów oraz wszystki
 ch osób\, dla których temat straty w kontekście migracji jest bliski.
  Rozmawiamy w języku polskim i angielskim\, szanując każdą perspekty
 wę.\n Czy to spotkanie jest dla Ciebie?\nTak\, jeśli:\n✓ Opuściła
 ś/eś dom\, aby zbudować życie gdzie indziej\n✓ Tęsknisz za rodzin
 ą\, którą nie możesz odwiedzić regularnie\n✓ Czujesz się „pomi
 ędzy” dwoma światami\n✓ Pytania "Skąd naprawdę jesteś?" sprawia
 ją\, że czujesz się dziwnie\n✓ Tęsknisz za tradycjami\, których n
 ie możesz praktykować\n✓ Tęsknisz za językiem\, którego rzadko u
 ywasz\n✓ Tęsknisz za tradycyjną kuchnią\, krajobrazem\, światłem
 \n✓ Czujesz się samotnie w tej żałobie\n\nZapisz się przez formula
 rz zgłoszeniowy. Czekamy na Ciebie!\nRejestracja zakończona\nWstęp je
 st bezpłatny. Spotkanie organizowane w ramach Inkubatora Pomysłów fin
 ansowanego ze środków programu Fundusze Europejskie dla Rozwoju Społe
 cznego.\nWażne: to nie jest terapia\nSpotkanie ma charakter społeczny 
 i towarzyski. To nie psychoedukacja ani terapia. Na spotkaniach nie udzi
 elamy też porad typu „co powinnaś/powinieneś zrobić”. Jeśli jes
 teś w silnym kryzysie i potrzebujesz natychmiastowej pomocy\, prosimy 
  sięgnij po wsparcie specjalistyczne.\n\nSpotkanie poprowadzi:\nErica
  Kim\n\nPrzynieś swoją stratę. Przynieś swoje pytania. Będziemy Ci
  słuchać ♥
URL;VALUE=URI:https://griefhouse.community/events/krag-zaloby-migracyjne
 j/
UID:urn:uuid:6ae41b3a-319c-46ef-9117-ec87280a110d
STATUS:CONFIRMED
ORGANIZER:
DTSTAMP:20260423T023601Z
DTSTART;TZID=UTC:20260212T180000
DTEND;TZID=UTC:20260212T195500
LOCATION:ul. Jagiellońska 54
END:VEVENT
END:VCALENDAR