BEGIN:VCALENDAR
METHOD:PUBLISH
VERSION:2.0
CALSCALE:GREGORIAN
PRODID:-//NONSGML WPForms//NONSGML Sugar Calendar Feeds v3.11.0//EN
X-WR-CALNAME:Serce z kawałków - Warsztaty mozaikowe dla osób w żało
 bie
X-WR-CALDESC:Dom Ukojenia | Grief House Warsaw | Дім Полегшен
 ня
X-WR-TIMEZONE:UTC
BEGIN:VTIMEZONE
TZID:UTC
BEGIN:STANDARD
TZOFFSETFROM:+0000
TZOFFSETTO:+0000
DTSTART:20251108T040000
TZNAME:UTC
END:STANDARD
END:VTIMEZONE
BEGIN:VTIMEZONE
TZID:UTC
BEGIN:STANDARD
TZOFFSETFROM:+0000
TZOFFSETTO:+0000
DTSTART:20251108T040000
TZNAME:UTC
END:STANDARD
END:VTIMEZONE
BEGIN:VEVENT
SUMMARY:Serce z kawałków - Warsztaty mozaikowe dla osób w żałobie
DESCRIPTION:Uwaga! Ilość miejsc ograniczona. Aby zarezerwować miejsce
 \, wypełnij formularz zapisowy. \nSerce z kawałków. Warsztaty mozaik
 owe w żałobie\nMozaika powstaje z tego\, co całe — i z tego\, co si
 ę rozpadło. Tak jak my\, kiedy tracimy kogoś bliskiego.\n\nDom Ukoje
 nia i pracownia artystyczna Ukoja zapraszają na wspólne warsztaty\, po
 dczas których stworzymy mozaikowe obrazki lub podstawki — trwałą pa
 miątkę po kimś\, kogo kochamy. Możesz przynieść ceramikę po blis
 kiej osobie — spodek\, miseczkę\, filiżankę. Pomożemy Ci ją poci
 ć i wpleść we własną mozaikę. Mogą być to też inne drobne prze
 dmioty (guziki\, korale czy inne drobiazgi)\, które pragniesz zachować
  na pamiątkę i uhonorować nadając im nową oprawę.\n\nNie potrzebuj
 esz żadnego doświadczenia z mozaiką\, ani zdolności manualnych. Popr
 owadzimy Cię przez cały proces twórczy.\n\nWszystkie materiały zapew
 nione\, ale jeśli chcesz\, to dodatkowo przynieś swoje ukochane przedm
 ioty - na początku warsztatów ustalimy\, które z nich będzie można 
 wpleść w mozaikę.\n\n👥 Czy to spotkanie jest dla Ciebie?\nTak\, je
 śli:\n✓ przeżywasz żałobę i szukasz przestrzeni\, w której może
 sz być ze swoim smutkiem\n✓ chcesz uczcić pamięć bliskiej osoby w 
 twórczy\, nieoczywisty sposób\n✓ potrzebujesz czegoś do zrobienia r
 ękoma\, żeby dać odpocząć głowie\n✓ masz w domu przedmioty po ki
 mś ważnym i chcesz nadać im nową formę\n✓ chcesz spędzić ten cz
 as wśród osób\, które rozumieją\, czym jest strata\nFORMULARZ ZAPIS
 OWY\nWstęp jest bezpłatny. Spotkanie organizowane jest w ramach Inkuba
 tora Pomysłów finansowanego ze środków programu Fundusze Europejskie
  dla Rozwoju Społecznego.\nWażne:\n\n 	Warsztaty są przeznaczone dla 
 osób\, u których od śmierci bliskiej osoby minęło co najmniej 6 mie
 sięcy. Ta forma spotkania została pomyślana dla osób\, które nie s
  już w najświeższym okresie żałoby i czują gotowość\, by pracow
 ać z pamięcią\, przedmiotami i symbolicznym upamiętnieniem w twórcz
 ym procesie grupowym.\n 	Spotkanie będzie prowadzone w języku polskim.
 \n 	Spotkanie ma charakter wspierający\, nie jest terapią. Na spotkan
 iach nie udzielamy porad typu „co powinnaś/powinieneś zrobić”. Je
 śli jesteś w silnym kryzysie i potrzebujesz natychmiastowej pomocy\, p
 rosimy – sięgnij po wsparcie specjalistyczne.\n\nSpotkanie poprowadz
 :\nMarta (Marči) Rokita i Izabela Jachnicka\n\nZ tego\, co pękło\, t
 eż może powstać coś pięknego i pełnego znaczenia ♥
URL;VALUE=URI:https://griefhouse.community/events/warsztaty-mozaikowe-dl
 a-osob-w-zalobie/
UID:urn:uuid:a8c12318-18cf-4e7d-8f37-2dc035435c9a
STATUS:CONFIRMED
ORGANIZER:
DTSTAMP:20260422T173637Z
DTSTART;TZID=UTC:20260509T160000
DTEND;TZID=UTC:20260509T190000
LOCATION:Popiełuszki 21 lok. 315
END:VEVENT
END:VCALENDAR