BEGIN:VCALENDAR
METHOD:PUBLISH
VERSION:2.0
CALSCALE:GREGORIAN
PRODID:-//NONSGML WPForms//NONSGML Sugar Calendar Feeds v3.11.0//EN
X-WR-CALNAME:Żałoba migracyjna - warsztat psychoedukacyjny
X-WR-CALDESC:Dom Ukojenia | Grief House Warsaw | Дім Полегшен
 ня
X-WR-TIMEZONE:UTC
BEGIN:VTIMEZONE
TZID:UTC
BEGIN:STANDARD
TZOFFSETFROM:+0000
TZOFFSETTO:+0000
DTSTART:20250926T053000
TZNAME:UTC
END:STANDARD
END:VTIMEZONE
BEGIN:VTIMEZONE
TZID:UTC
BEGIN:STANDARD
TZOFFSETFROM:+0000
TZOFFSETTO:+0000
DTSTART:20250926T053000
TZNAME:UTC
END:STANDARD
END:VTIMEZONE
BEGIN:VEVENT
SUMMARY:Żałoba migracyjna - warsztat psychoedukacyjny
DESCRIPTION:Co wiąże się z przeprowadzką do nowego kraju?\nZapraszam
 y na krótkie\, bezpłatne warsztaty psychoedukacyjne poświęcone żał
 obie migracyjnej — doświadczeniu straty\, które często towarzyszy p
 rzeprowadzce do nowego kraju. Spotkanie łączy elementy psychoedukacji 
 z częścią warsztatową.\nCo będziemy robić?\nPorozmawiamy o tym\, c
 zym jest żałoba migracyjna i z jakimi emocjami\, napięciami oraz trud
 nościami może się wiązać życie między miejscami\, językami i rze
 czywistościami. To przestrzeń\, w której będzie można lepiej zrozum
 ieć własne doświadczenia i nazwać to\, co bywa trudne do uchwycenia.
 \n\nMamy nadzieję\, że udział w spotkaniu pomoże Ci spojrzeć z wię
 kszą łagodnością na własny proces odnajdywania się w nowym miejscu
  i codzienności.\n\nSpotkania odbywają się w języku angielskim. Nie 
 musisz znać języka „perfekcyjnie”. Wystarczy\, że jesteś w stani
 e słuchać innych ze zrozumieniem i powiedzieć to\, co sama/sam przeż
 ywasz lub czujesz.\n\nLiczba miejsc ograniczona.\nZapisz się przez form
 ularz zgłoszeniowy. Czekamy na Ciebie!\nFormularz zapisowy\nWstęp jest
  bezpłatny. Spotkanie organizowane w ramach Inkubatora Pomysłów finan
 sowanego ze środków programu Fundusze Europejskie dla Rozwoju Społecz
 nego.\nWażne\n\n 	Spotkanie odbywa się w miejscu o ograniczonej dostę
 pności (pierwsze piętro\, bez windy).\n 	Spotkanie ma charakter psycho
 edukacyjny (to nie jest terapia). Jeśli jesteś w silnym kryzysie i pot
 rzebujesz natychmiastowej pomocy\, prosimy – sięgnij po wsparcie spec
 jalistyczne.\n\nSpotkanie poprowadzi:\nErica Kim\n\nCzasem ulgę przynos
 i już samo zrozumienie\, co się z nami dzieje ♥
URL;VALUE=URI:https://griefhouse.community/uk/events/warsztat-na-temat-z
 aloby-migracyjnej/
UID:urn:uuid:7eb064c7-4805-4f13-9adf-b2309deff7d8
STATUS:CONFIRMED
ORGANIZER:
DTSTAMP:20260422T173638Z
DTSTART;TZID=UTC:20260327T173000
DTEND;TZID=UTC:20260327T193000
LOCATION:ul. Jagiellońska 54
END:VEVENT
END:VCALENDAR