BEGIN:VCALENDAR
METHOD:PUBLISH
VERSION:2.0
CALSCALE:GREGORIAN
PRODID:-//NONSGML WPForms//NONSGML Sugar Calendar Feeds v3.11.0//EN
X-WR-CALNAME:Z nitki i tęsknoty – amulety pamięci z ubrań osób zma
 rłych
X-WR-CALDESC:Dom Ukojenia | Grief House Warsaw | Дім Полегшен
 ня
X-WR-TIMEZONE:UTC
BEGIN:VTIMEZONE
TZID:UTC
BEGIN:STANDARD
TZOFFSETFROM:+0000
TZOFFSETTO:+0000
DTSTART:20251025T040000
TZNAME:UTC
END:STANDARD
END:VTIMEZONE
BEGIN:VTIMEZONE
TZID:UTC
BEGIN:STANDARD
TZOFFSETFROM:+0000
TZOFFSETTO:+0000
DTSTART:20251025T040000
TZNAME:UTC
END:STANDARD
END:VTIMEZONE
BEGIN:VEVENT
SUMMARY:Z nitki i tęsknoty – amulety pamięci z ubrań osób zmarłyc
 h
DESCRIPTION:Uwaga! Ilość miejsc ograniczona. Aby zarezerwować miejsce
 \, wypełnij formularz zapisowy. \nZ nitki i tęsknoty – amulety pam
 ięci z ubrań osób zmarłych\n\nDom Ukojenia i MAL Kasprowicza 14 zapr
 aszają na wspólne warsztaty\, podczas których uszyjemy niewielkie zaw
 ieszki-amulety z ubrań naszych bliskich zmarłych.\n\n\nNa początku sp
 otkania uczestnicy napiszą krótki list do osoby\, za którą tęsknią
 \, a następnie zaszyją go wewnątrz uszytej z ubrania zawieszki-amulet
 u. W spokojnym rytmie ręcznego szycia będziemy w tym procesie razem\,
  rozmawiając (albo milcząc) o tych\, których nosimy w sercu.\n\nNie t
 rzeba umieć szyć. Prowadzące pokażą proste wzory i będą służyć
  wsparciem przez cały proces twórczy.\n\nMateriały do warsztatów (ig
 ły\, nici\, dodatki) są zapewnione. Ty przynieś wybrany przez siebie 
 materiał - może to być koszula\, sukienka\, t-shirt\, chusteczka bawe
 łniana itp. Mogą to być też inne drobne przedmioty (guzik od ubrania
 \, koraliki)\, którymi będziesz chciał/a ozdobić swój amulet.\n\nTo
  warsztaty dla tych\, którzy chcą dać ubraniom bliskich nowe\, czułe
  miejsce.\n\n\n\n👥 Czy to spotkanie jest dla Ciebie?\nTak\, jeśli:\n
 ✓ przeżywasz żałobę i szukasz przestrzeni\, w której możesz być
  ze swoim smutkiem\n✓ chcesz uczcić pamięć bliskiej osoby w twórcz
 y\, nieoczywisty sposób\n✓ potrzebujesz czegoś do zrobienia rękoma\
 , żeby dać odpocząć głowie\n✓ masz w domu ubranie po kimś ważny
 m i chcesz nadać mu nową formę\n✓ chcesz spędzić ten czas wśród
  osób\, które rozumieją\, czym jest strata\nFORMULARZ ZAPISOWY\nWstę
 p jest bezpłatny. Spotkanie organizowane jest w ramach Inkubatora Pomys
 łów finansowanego ze środków programu Fundusze Europejskie dla Rozwo
 ju Społecznego.\nWażne:\n\n 	Spotkanie będzie prowadzone w języku po
 lskim.\n 	Spotkanie ma charakter wspierający\, nie jest terapią. Na s
 potkaniach nie udzielamy porad typu „co powinnaś/powinieneś zrobić
 . Jeśli jesteś w silnym kryzysie i potrzebujesz natychmiastowej pomo
 cy\, prosimy – sięgnij po wsparcie specjalistyczne.\n\nSpotkanie popr
 owadzą:\nIzabela Jachnicka oraz zespół MAL Kasprowicza 14.\n\nZ tego\
 , co zostało po Nich w naszych szafach i sercach\, możemy uszyć coś 
 małego\, a jednak pełnego znaczenia ♥
URL;VALUE=URI:https://griefhouse.community/uk/events/z-nitki-i-tesknoty-
 amulety-pamieci-z-ubran-osob-zmarlych/
UID:urn:uuid:c9242437-1621-4819-a13d-56054de2383b
STATUS:CONFIRMED
ORGANIZER:
DTSTAMP:20260422T154306Z
DTSTART;TZID=UTC:20260425T160000
DTEND;TZID=UTC:20260425T190000
LOCATION:ul. Kasprowicza 14
END:VEVENT
END:VCALENDAR